{"text_format":"1","workbook":"xlsx","n_sheets":2,"sheets":["EOCCO County Level","EOCCO "],"not_rendered":{"charts":0,"images":0,"macros":0,"external_links":3,"defined_names":0,"comments":0,"pivot_tables":0},"unopened":[],"bounds":{"document_bytes":16777216,"sheet_cells":100000,"rows_first":2000,"rows_last":500,"rows_between":2000,"halvings":0,"cell_chars":16384,"cell_head_chars":4096},"cells_cut":0,"cells_raw":0,"read":"whole","date_system":"1900"}

{"sheet":"EOCCO County Level","index":0,"n_rows":46,"n_cols":72,"rows_kept":46,"cut":false,"hidden":false,"merged":[[1,57,1,61],[1,62,1,66],[1,67,1,71],[1,27,1,31],[1,32,1,36],[1,37,1,41],[1,42,1,46],[1,47,1,51],[1,52,1,56],[1,17,1,21],[41,0,42,0],[41,1,42,1],[29,0,30,0],[19,0,20,0],[19,1,20,1],[21,0,22,0],[21,1,22,1],[23,1,24,1],[23,0,24,0],[13,1,14,1],[13,0,14,0],[39,0,40,0],[39,1,40,1],[33,1,34,1],[35,0,36,0],[35,1,36,1],[1,7,1,11],[1,12,1,16],[1,22,1,26],[37,0,38,0],[37,1,38,1],[25,0,26,0],[25,1,26,1],[27,1,28,1],[27,0,28,0],[29,1,30,1],[9,1,10,1],[11,1,12,1],[11,0,12,0],[15,0,16,0],[15,1,16,1],[31,1,32,1],[31,0,32,0],[33,0,34,0],[7,0,8,0],[5,1,6,1],[7,1,8,1],[17,0,18,0],[17,1,18,1],[9,0,10,0],[0,0,0,1],[3,1,4,1],[1,2,1,6],[3,0,4,0],[5,0,6,0]]}
["EOCCO Incentive Measures"]
[null,null,"EOCCO Targets",null,null,null,null,"Baker County",null,null,null,null,"Gilliam County",null,null,null,null,"Grant County",null,null,null,null,"Harney County",null,null,null,null,"Lake County",null,null,null,null,"Malheur County",null,null,null,null,"Morrow County",null,null,null,null,"Sherman County",null,null,null,null,"Umatilla County",null,null,null,null,"Union County",null,null,null,null,"Wallowa County",null,null,null,null,"Wheeler County",null,null,null,null,"EOCCO Final Rates"]
[null,null,2014,2015,2016,2017,2018,2014,2015,2016,2017,2018,2014,2015,2016,2017,2018,2014,2015,2016,2017,2018,2014,2015,2016,2017,2018,2014,2015,2016,2017,2018,2014,2015,2016,2017,2018,2014,2015,2016,2017,2018,2014,2015,2016,2017,2018,2014,2015,2016,2017,2018,2014,2015,2016,2017,2018,2014,2015,2016,2017,2018,2014,2015,2016,2017,2018,2014,2015,2016,2017,2018]
[1,"Adolescent Well Care Visits",0.25800000000000001,0.27700000000000002,0.29099999999999998,0.373,0.40600000000000003,0.17499999999999999,0.222,0.32400000000000001,0.33100000000000002,0.38492063492063494,0.28599999999999998,0.32,0.31707317073170732,0.5,0.48936170212765956,0.19400000000000001,0.23300000000000001,0.35057471264367818,0.29842931937172801,0.47417840375586856,0.23300000000000001,0.26300000000000001,0.22680412371134021,0.365079365079365,0.49792531120331951,0.127,0.157,0.16923076923076924,0.36413043478260898,0.3524229074889868,0.20200000000000001,0.308,0.41501976284584979,0.366566716641679,0.37612477504499098,0.22500000000000001,0.27400000000000002,0.42602040816326531,0.46153846153846201,0.45263157894736844,0.219,0.34300000000000003,0.36842105263157893,0.422222222222222,0.36956521739130432,0.26300000000000001,0.26400000000000001,0.32654792196776927,0.39513422818791899,0.4199643493761141,0.153,0.16900000000000001,0.36901408450704226,0.38983050847457601,0.47252747252747251,0.35699999999999998,0.308,0.39361702127659576,0.47872340425531901,0.51709401709401714,0.12,0.54800000000000004,0.296296296296296,0.24,0.36666666666666664,0.23899999999999999,0.255,0.35121542330259847,0.38579996757983465,0.41529093369418135]
[null,null,null,null,null,null,null,null,null,"124/383","145/438","194/504",null,null,"13/41","17/34","23/47",null,null,"13/41","57/191","101/213",null,null,"44/194","69/189","120/241",null,null,"33/195","67/184","80/227",null,null,"525/1265","489/1334","627/1667",null,null,"167/392","180/390","215/475",null,null,"14/38","19/45","17/46",null,null,"770/2358","942/2384","1178/2805",null,null,"262/710","299/767","430/910",null,null,"74/188","90/188","121/234",null,null,"8/27","6/25","11/30","1579/6602","1650/6483","2095/5965","2380/6169","3069/ 7390"]
[2,"Alcohol and Drug Misuse: SBIRT",3.7999999999999999E-2,7.9000000000000001E-2,0.11799999999999999,0.15,0.12,2.5999999999999999E-2,5.7000000000000002E-2,4.6773495019488957E-2,0.109710550887021,{"$f":"119/2107","v":5.647840531561462E-2},0.12,0.13200000000000001,9.8290598290598288E-2,8.4158415841584205E-2,{"$f":"23/210","v":0.10952380952380952},1.4E-2,2.5000000000000001E-2,0.14943705220061412,5.3418803418803402E-2,{"$f":"296/914","v":0.32385120350109409},0.503,0.36699999999999999,0.22386831275720165,0.17185385656292301,{"$f":"152/801","v":0.18976279650436953},4.5999999999999999E-2,1.6E-2,6.6599394550958632E-2,0.18062827225130901,{"$f":"303/779","v":0.38896020539152759},1.2E-2,8.6999999999999994E-2,0.12266772528781263,0.13397320535892801,{"$f":"734/5142","v":0.14274601322442629},0.02,0.151,0.31241830065359477,0.239662447257384,{"$f":"300/1055","v":0.28436018957345971},0.158,0.154,0.17903930131004367,0.177884615384615,{"$f":"27/214","v":0.12616822429906541},6.0000000000000001E-3,3.9E-2,0.16341488592959635,0.15139068184485399,{"$f":"1009/8333","v":0.12108484339373575},0.115,0.186,0.29869020501138954,0.21688741721854299,{"$f":"475/2520","v":0.18849206349206349},3.2000000000000001E-2,8.3000000000000004E-2,9.5149253731343281E-2,7.6286764705882401E-2,{"$f":"182/995","v":0.18291457286432161},0.49199999999999999,0.40200000000000002,0.42564102564102563,0.38500000000000001,{"$f":"119/201","v":0.59203980099502485},5.5E-2,8.7999999999999995E-2,0.16929119270814036,0.15258685328667834,{"$f":"3739/23271","v":0.16067208113102144}]
[null,null,null,null,null,null,null,null,null,"108/2309","235/2142","119/2107",null,null,"23/234","17/202","23/210",null,null,"146/977","50/936","296/914",null,null,"272/1215","127/739","152/801",null,null,"66/991","138/764","303/779",null,null,"618/5038","670/5001","734/5142",null,null,"478/1530","284/1185","300/1055",null,null,"41/229","37/208","27/214",null,null,"1583/9687","1290/8521","1009/8333",null,null,"1049/3512","655/3020","475/2520",null,null,"102/1072","83/1088","182/995",null,null,"83/195","77/200","119/201","965/17671","2105/23846","4569/26989","3663/24006","3739/ 23271"]
[3,"Assessments for Children in DHS Custody",0.58799999999999997,0.38200000000000001,0.64500000000000002,0.76,0.86199999999999999,"N/A","N/A","N/A","N/A",{"$f":"10/14","v":0.7142857142857143},"N/A","N/A","N/A","N/A",1,"N/A","N/A","N/A","N/A",1,"N/A","N/A","N/A","N/A",1,"N/A","N/A","N/A","N/A",1,"N/A","N/A","N/A","N/A",{"$f":"9/12","v":0.75},"N/A","N/A","N/A","N/A",1,"N/A","N/A","N/A","N/A",1,"N/A","N/A","N/A","N/A",{"$f":"23/29","v":0.7931034482758621},"N/A","N/A","N/A","N/A",{"$f":"13/15","v":0.8666666666666667},"N/A","N/A","N/A","N/A",1,"N/A","N/A","N/A","N/A","N/A",0.32400000000000001,0.61499999999999999,0.7303370786516854,0.83199999999999996,0.81699999999999995]
[null,null,null,null,null,null,null,null,null,null,null,"10/14",null,null,null,null,"1/1",null,null,null,null,"2/2",null,null,null,null,"1/1",null,null,null,null,"10/10",null,null,null,null,"9/12",null,null,null,null,"2/2",null,null,null,null,"1/1",null,null,null,null,"23/29",null,null,null,null,"13/15",null,null,null,null,"3/3",null,null,null,null,null,"12/37","64/104","65/89","89/107","89/109"]
[4,"Childhood Immunization Status Combo 2","N/A","N/A",0.74099999999999999,0.72899999999999998,0.79100000000000004,"N/A","N/A",0.68852459016393441,0.84,{"$f":"41/58","v":0.7068965517241379},"N/A","N/A",0.2,0.85714285714285698,1,"N/A","N/A",0.65217391304347827,0.66666666666666696,{"$f":"5/13","v":0.38461538461538464},"N/A","N/A",0.63888888888888884,0.79166666666666696,{"$f":"39/47","v":0.82978723404255317},"N/A","N/A",0.55000000000000004,0.77272727272727304,{"$f":"15/21","v":0.7142857142857143},"N/A","N/A",0.79374999999999996,0.824242424242424,{"$f":"165/209","v":0.78947368421052633},"N/A","N/A",0.8,0.6875,{"$f":"46/51","v":0.90196078431372551},"N/A","N/A",0.66666666666666663,0.5,1,"N/A","N/A",0.7172774869109948,0.79141104294478504,{"$f":"258/357","v":0.72268907563025209},"N/A","N/A",0.5714285714285714,0.66666666666666696,{"$f":"73/108","v":0.67592592592592593},"N/A","N/A",0.78947368421052633,0.78260869565217395,{"$f":"19/27","v":0.70370370370370372},"N/A","N/A",0.75,0.5,{"$f":"3/4","v":0.75},"N/A",0.73299999999999998,0.70781426953567383,0.77306733167082298,{"$f":"696/904","v":0.76991150442477874}]
[null,null,null,null,null,null,null,null,null,"42/61","42/50","41/58",null,null,"1/5","6/7","3/3",null,null,"15/23","14/21","5/13",null,null,"23/36","19/24","39/47",null,null,"11/20","17/22","15/21",null,null,"127/160","136/165","165/209",null,null,"52/65","44/64","46/51",null,null,"2/3","1/2","2/2",null,null,"274/382","258/326","258/357",null,null,"60/105","64/96","73/108",null,null,"15/19","18/23","19/27",null,null,"3/4","1/2","3/4",null,"801/1093","625/883","620/802","696/904"]
[5,"Colorectal Cancer Screening",0.47,0.38300000000000001,0.39,0.439,0.46800000000000003,"N/A",0.25900000000000001,0.3473684210526316,0.417366946778712,{"$f":"201/384","v":0.5234375},"N/A",0.158,0.18518518518518517,0.296296296296296,{"$f":"11/31","v":0.35483870967741937},"N/A",0.26500000000000001,0.24528301886792453,0.25149700598802399,{"$f":"54/166","v":0.3253012048192771},"N/A",0.29199999999999998,0.36744186046511629,0.48421052631578898,{"$f":"99/208","v":0.47596153846153844},"N/A",0.156,0.21714285714285714,0.450867052023121,{"$f":"91/206","v":0.44174757281553401},"N/A",0.309,0.38037865748709121,0.43598615916955002,{"$f":"310/654","v":0.47400611620795108},"N/A",0.34100000000000003,0.33846153846153848,0.40476190476190499,{"$f":"81/164","v":0.49390243902439024},"N/A",0.185,0.29268292682926828,0.41935483870967699,{"$f":"7/29","v":0.2413793103448276},"N/A",0.311,0.3758278145695364,0.44058500914076798,{"$f":"501/1167","v":0.42930591259640105},"N/A",0.29799999999999999,0.34158415841584161,0.39107611548556398,{"$f":"175/421","v":0.41567695961995249},"N/A",0.32800000000000001,0.39361702127659576,0.53684210526315801,{"$f":"117/197","v":0.59390862944162437},"N/A",0.26200000000000001,0.34883720930232559,0.41025641025641002,{"$f":"23/50","v":0.46},0.35279805352798055,0.36,0.40899999999999997,0.44800000000000001,{"$f":"198/410","v":0.48292682926829267}]
[null,null,null,null,null,null,null,null,null,"132/380","149/357","201/384",null,null,"5/27","8/27","11/31",null,null,"39/159","42/167","54/166",null,null,"79/215","92/190","99/208",null,null,"38/175","78/173","91/206",null,null,"221/581","252/578","310/654",null,null,"66/195","68/168","81/164",null,null,"12/41","13/31","7/29",null,null,"454/1208","482/1094","501/1167",null,null,"138/404","149/381","175/421",null,null,"74/188","102/190","117/197",null,null,"15/43","16/39","23/50","145/411","148/411","168/411","184/411","198/410"]
[6,"Dental Sealants","N/A",7.9000000000000001E-2,0.17399999999999999,0.2,0.22900000000000001,"N/A",9.1999999999999998E-2,0.14913957934990441,0.29075630252100798,{"$f":"150/664","v":0.22590361445783133},"N/A",0.28599999999999998,0.22,0.322033898305085,{"$f":"17/66","v":0.25757575757575757},"N/A",4.8000000000000001E-2,0.31578947368421051,0.40625,{"$f":"72/183","v":0.39344262295081966},"N/A",0.09,0.11453744493392071,0.42489270386266098,{"$f":"69/297","v":0.23232323232323232},"N/A",0.125,0.273542600896861,0.32142857142857101,{"$f":"84/275","v":0.30545454545454548},"N/A",0.16800000000000001,0.18170185540626999,0.22974537037036999,{"$f":"498/2059","v":0.24186498300145701},"N/A",0.129,0.32765957446808508,0.24384787472035799,{"$f":"179/550","v":0.32545454545454544},"N/A",0,0.14583333333333334,0.30434782608695699,{"$f":"14/46","v":0.30434782608695654},"N/A",7.5999999999999998E-2,0.18100172711571674,0.23951106706309899,{"$f":"885/3438","v":0.25741710296684117},"N/A",4.2999999999999997E-2,3.6036036036036036E-2,0.17775571002979099,{"$f":"178/1143","v":0.1557305336832896},"N/A",0.19,5.3398058252427182E-2,0.16806722689075601,{"$f":"31/272","v":0.11397058823529412},"N/A",0.12,0.15151515151515152,0.625,{"$f":"8/32","v":0.25},"N/A",0.14399999999999999,0.16490747087045921,0.24591211037301994,{"$f":"2192/9014","v":0.24317727978699799}]
[null,null,null,null,null,null,null,null,null,"78/523","173/595","150/664",null,null,"11/50","19/59","17/66",null,null,"53/170","78/192","72/183",null,null,"26/227","99/233","69/297",null,null,"61/223","72/224","84/275",null,null,"284/1563","397/1728","498/2059",null,null,"154/470","109/447","179/550",null,null,"7/48","14/46","14/46",null,null,"524/2895","725/3027","885/3438",null,null,"32/888","179/1007","178/1143",null,null,"11/206","40/238","31/272",null,null,"5/33","20/32","8/32",null,"1117/7766","1203/6515","1925/7828","2192/ 9014"]
[7,"Developmental Screening in the First 36 Months of Life",0.32,0.373,0.47699999999999998,0.57299999999999995,0.65600000000000003,0.495,0.629,0.68137254901960786,0.69101123595505598,{"$f":"146/214","v":0.68224299065420557},0,7.6999999999999999E-2,0.1875,0.5,{"$f":"8/12","v":0.66666666666666663},5.1999999999999998E-2,0.29899999999999999,0.38961038961038963,0.43333333333333302,{"$f":"50/69","v":0.72463768115942029},0.53300000000000003,0.70599999999999996,0.75510204081632648,0.9,{"$f":"101/117","v":0.86324786324786329},0.127,0.186,0.33783783783783783,0.39743589743589702,{"$f":"28/71","v":0.39436619718309857},0.66100000000000003,0.73899999999999999,0.7938808373590982,0.839931153184165,{"$f":"570/670","v":0.85074626865671643},4.2999999999999997E-2,0.126,0.31372549019607843,0.43601895734597201,{"$f":"114/210","v":0.54285714285714282},0.182,0.42899999999999999,0.35714285714285715,0.625,{"$f":"6/13","v":0.46153846153846156},0.17,0.218,0.36600306278713629,0.47246891651864997,{"$f":"662/1251","v":0.52917665867306152},0.60199999999999998,0.73199999999999998,0.82267441860465118,0.828402366863905,{"$f":"296/347","v":0.85302593659942361},0.43099999999999999,0.4,0.67567567567567566,0.8,{"$f":"71/84","v":0.84523809523809523},0.66700000000000004,0.46700000000000003,0.58333333333333337,0.8,{"$f":"9/13","v":0.69230769230769229},0.35899999999999999,0.44700000000000001,0.54237844940867275,0.62760603882099208,{"$f":"2055/3071","v":0.66916313904265712}]
[null,null,null,null,null,null,null,null,null,"139/204","123/178","146/214",null,null,"3/16","6/12","8/12",null,null,"30/77","26/60","50/69",null,null,"74/98","99/110","101/117",null,null,"25/74","31/78","28/71",null,null,"493/621","488/581","570/670",null,null,"64/204","92/211","114/210",null,null,"5/14","5/8","6/13",null,null,"478/1306","532/1126","662/1251",null,null,"283/344","280/338","296/347",null,null,"50/74","52/65","71/84",null,null,"7/12","12/15","9/13","1269/3537","1483/3320","1651/3044","1746/2782","2055/ 3071"]
[8,"Effective Contraceptive Use ","N/A",0.34599999999999997,0.42699999999999999,0.48099999999999998,0.5,"N/A",0.36799999999999999,0.46952595936794583,0.54613466334164595,{"$f":"282/504","v":0.55952380952380953},"N/A",0.317,0.35714285714285715,0.30303030303030298,{"$f":"12/36","v":0.33333333333333331},"N/A",0.443,0.28235294117647058,0.44078947368421101,{"$f":"117/200","v":0.58499999999999996},"N/A",0.496,0.53846153846153844,0.512820512820513,{"$f":"128/236","v":0.5423728813559322},"N/A",0.249,0.38860103626943004,0.568965517241379,{"$f":"148/236","v":0.6271186440677966},"N/A",0.371,0.46458333333333335,0.46951871657754002,{"$f":"638/1393","v":0.45800430725053842},"N/A",0.317,0.50196078431372548,0.49576271186440701,{"$f":"140/345","v":0.40579710144927539},"N/A",0.45500000000000002,0.4642857142857143,0.33333333333333298,{"$f":"13/44","v":0.29545454545454547},"N/A",0.35399999999999998,0.44073884043099026,0.490866234531526,{"$f":"1177/2426","v":0.48516075845012369},"N/A",0.42199999999999999,0.46074074074074073,0.48153618906942403,{"$f":"488/873","v":0.55899198167239406},"N/A",0.29299999999999998,0.38750000000000001,0.44736842105263203,{"$f":"134/233","v":0.57510729613733902},"N/A",0.55900000000000005,0.57692307692307687,0.63333333333333297,{"$f":"24/36","v":0.66666666666666663},0.34799999999999998,0.39700000000000002,0.44862008220786848,0.48960101867572159,{"$f":"3344/6553","v":0.51030062566763312}]
[null,null,null,null,null,null,null,null,null,"208/443","219/401","282/504",null,null,"15/42","10/33","12/36",null,null,"48/170","67/152","117/200",null,null,"112/208","100/195","128/236",null,null,"75/193","99/174","148/236",null,null,"446/960","439/935","638/1393",null,null,"128/255","117/236","140/345",null,null,"13/28","10/30","13/44",null,null,"859/1949","833/1697","1177/2426",null,null,"311/675","326/677","488/873",null,null,"62/160","68/152","134/233",null,null,"15/26","19/30","24/36","1870/5368","2373/5979","2292/5109","2307/4712","3344/ 6553"]
[9,"Emergency Department Utilization*",57.7,52.6,51.5,51.8,51.8,48.3,51.3,53.865680947715326,51.110414614489102,47.1,22.2,39.799999999999997,42.961165048543698,37.338074676149397,29.4,42.2,68.5,74.112197632527028,63.007077507336405,66.7,45.2,48.5,49.507696574677574,45.846842321567202,43.5,45.2,50.4,45.557428365037325,40.055453780264401,39.4,50.5,61.9,59.736250643125999,55.672106730603296,54.7,41.6,48.8,51.428065620205359,50.021017234131996,41.2,39.6,55.2,45.914588990372749,32.067727039507403,41.1,50.8,59.5,59.625173423412974,53.619703445982701,49.5,52.7,63.5,62.718465994207534,62.805522998198995,54.6,26.8,29.2,29.923523071395575,30.7222049528546,33.9,19.8,26.9,30.079803560466544,35.0823672971324,29.5,54,53.1,57.214993957469062,53.1014893151537,51.2]
[null,null,null,null,null,null,null,null,null,"2419/44908","2283/44668","2196/ 46666",null,null,"177/4120","147/3937","120/4076",null,null,"1296/17487","1095/17379","1146/ 17189",null,null,"1071/21633","1004/21899","1051/ 24176",null,null,"946/20765","809/20197","851/21608",null,null,"6618/110787","6130/110109","6556/ 119863",null,null,"1743/33892","1547/30927","1388/ 33679",null,null,"186/4051","125/3898","163/3964",null,null,"12850/215513","11127/207517","10756/217470",null,null,"4396/70091","4394/69962","3966/ 72626",null,null,"583/19483","593/19302","689/20311",null,null,"98/3258","115/3278","104/3525","27932/516927","30170/567804","32383/565988","29369/553073","28983/ 566438"]
[10,"Emergency Department Utilization for Patients Experiencing Mental Illness*","N/A","N/A","N/A","N/A",119.5,"N/A","N/A","N/A","N/A",97.7,"N/A","N/A","N/A","N/A",61.8,"N/A","N/A","N/A","N/A",153.4,"N/A","N/A","N/A","N/A",108.7,"N/A","N/A","N/A","N/A",86.5,"N/A","N/A","N/A","N/A",143.4,"N/A","N/A","N/A","N/A",121,"N/A","N/A","N/A","N/A",93.9,"N/A","N/A","N/A","N/A",120,"N/A","N/A","N/A","N/A",109.1,"N/A","N/A","N/A","N/A",73.599999999999994,"N/A","N/A","N/A","N/A",75.099999999999994,"N/A","N/A","N/A","N/A",112.7]
[null,null,null,null,null,null,null,null,null,null,null,"665/6806",null,null,null,null,"23/372",null,null,null,null,"257/1675",null,null,null,null,"325/2989",null,null,null,null,"220/2542",null,null,null,null,"1936/ 13498",null,null,null,null,"301/2488",null,null,null,null,"31/330",null,null,null,null,"2320/ 19330",null,null,null,null,"1077/9872",null,null,null,null,"240/3262",null,null,null,null,"37/493",null,null,null,null,"8887/ 78873"]
[11,"Follow-Up after Hospitalization for Mental Illness",0.58299999999999996,0.66600000000000004,0.72499999999999998,0.75700000000000001,"N/A",1,"N/A","N/A","N/A","N/A","N/A","N/A","N/A","N/A","N/A","N/A","N/A","N/A","N/A","N/A","N/A","N/A","N/A","N/A","N/A","N/A","N/A","N/A","N/A","N/A","N/A","N/A","N/A","N/A","N/A","N/A","N/A","N/A","N/A","N/A","N/A","N/A","N/A","N/A","N/A","N/A","N/A","N/A","N/A","N/A","N/A","N/A","N/A","N/A","N/A","N/A","N/A","N/A","N/A","N/A","N/A","N/A","N/A","N/A","N/A",0.63600000000000001,0.70909090909090911,0.72699999999999998,0.83799999999999997,"N/A"]
[null,null,null,null,null,null,null,null,null,null,null,null,null,null,null,null,null,null,null,null,null,null,null,null,null,null,null,null,null,null,null,null,null,null,null,null,null,null,null,null,null,null,null,null,null,null,null,null,null,null,null,null,null,null,null,null,null,null,null,null,null,null,null,null,null,null,null,"35/55","39/55","64/88","57/68"]
[12,"Depression Screening and Follow Up Plan","N/A",0.20399999999999999,0.25,0.52900000000000003,0.60299999999999998,0.92592592592592593,0.73118279569892475,0.57599999999999996,0.64264919941775833,0.85699999999999998,"N/A","N/A","N/A","N/A","N/A","N/A","N/A",5.3884711779448619E-2,0.32392473118279569,0.60299999999999998,0.74528301886792447,0.14576271186440679,0.32203389830508472,0.2175141242937853,0.34,"N/A","N/A",0.45962732919254656,0.83815028901734101,0.874,0.16186252771618626,0.28206764518187621,0.56415880675586749,0.63084438241451501,0.67,8.1435643564356439E-2,0.13197767145135567,0.29096362954630672,0.32190760059612517,0.253,"N/A","N/A","N/A","N/A","N/A",0.15844255975327678,0.13973799126637554,0.68251273344651953,0.52918816182459949,0.79700000000000004,0.16127052324689276,0.41889896646277158,0.57158443447690632,0.68444119795471148,0.71099999999999997,0.72693032015065917,0.73320895522388063,0.2429718875502008,0.59921671018276768,0.58099999999999996,0.79411764705882348,0.68085106382978722,0.79,0.80869565217391304,0.79300000000000004,0.16137168938802474,0.32954177461139894,0.52100000000000002,0.57299999999999995,0.67700000000000005]
[null,null,null,null,null,null,null,"25/27","680/930","668/1159","883/1374","1281/1494",null,null,null,null,null,null,null,"43/798","241/744","516/856","158/212","43/295","19/59","154/708","123/362",null,null,"148/322","728/865","429/491","219/1353","2210/7835*","5144/9118*","1808/2866","2049/3056","329/4040","331/2508","776/2667","864/2684","251/993",null,null,null,null,null,"411/2594","416/2977","2010/2945","1949/3683","1954/2452","1051/6517","3972/9482*","4715/8249*","4685/6845*","6813/9578","386/531","393/536","363/1494","459/766","516/888","108/136","96/141","79/100","93/115","119/150","2687/16651","8141/24704","13965/26783","11864/24404","14089/20807"]
[13,"Controlling High Blood Pressure","N/A",0.55200000000000005,0.621,0.66900000000000004,0.69,0.54411764705882348,0.61250000000000004,0.62654320987654322,0.67280163599182008,0.58399999999999996,"N/A","N/A","N/A","N/A","N/A",0.26605504587155965,"N/A",0.55681818181818177,0.31182795698924731,0.6,0.6428571428571429,0.58607663248785757,0.54970760233918126,0.6091370558375635,0.38,"N/A","N/A",0.51388888888888884,0.58139534883720934,0.51600000000000001,0.79247787610619469,0.55020283975659234,0.5714285714285714,0.5826446280991735,0.56899999999999995,0.15081822202565237,0.51844262295081966,0.59398496240601506,0.66816816816816815,0.74399999999999999,"N/A","N/A","N/A","N/A","N/A",0.46129541864139023,0.56695338218116176,0.68113057324840764,0.68287873808741373,0.63700000000000001,0.58338076266363115,0.67583619881212875,0.66961217476681389,0.68156424581005581,0.55100000000000005,0.60365853658536583,0.57999999999999996,0.40653357531760437,0.6470588235294118,0.60499999999999998,0.48717948717948717,0.44444444444444442,0.54716981132075471,0.6,0.53700000000000003,0.51170318725099606,0.59053308823529416,0.63900000000000001,0.67,0.58099999999999996]
[null,null,null,null,null,null,null,"37/68","196/320","203/324","329/489","250/428",null,null,null,null,null,"29/109",null,"49/88","59/93","78/130","477/742","1086/1853","94/171","120/197","41/108",null,null,"37/72","75/129","63/122","1791/2260","1085/1972","1220/2135","282/484","332/583","341/2261","253/488","316/532","445/666","169/227",null,null,null,null,null,"292/633","5339/9417","3422/5024","4156/6086","2501/3925","1025/1757","2162/3199","2728/4074*","244/358","3068/5572","99/164","116/200","224/551","121/187","124/205","19/39","20/45","29/53","27/45","22/41","4110/8032","11565/19584","8322/13024","5819/8682","6673/ 11479"]
[14,"Diabetes HbA1c Poor Control*","N/A",0.34,0.23400000000000001,0.23499999999999999,0.28000000000000003,0.2,0.20422535211267606,0.45508982035928142,0.35858585858585856,0.25900000000000001,"N/A","N/A","N/A","N/A","N/A",0.17,"N/A",0.10199999999999999,0.18055555555555555,0.26800000000000002,0.87649402390438247,0.16208393632416787,0.31578947368421051,0.34482758620689657,0.27,"N/A","N/A",0.47368421052631576,0.17105263157894737,0.31,0.55657492354740057,0.41314131413141314,0.30744849445324879,0.29518072289156627,0.28299999999999997,6.7070330693991612E-2,0.33333333333333331,0.39244186046511625,0.40311804008908686,0.47599999999999998,"N/A","N/A","N/A","N/A","N/A",0.43013698630136987,0.21029082774049218,0.29726148409893993,0.28699360341151386,0.307,0.1228813559322034,0.45098039215686275,0.19054242002781641,0.23699421965317918,0.217,0.2978723404255319,0.28333333333333333,0.23076923076923078,0.31578947368421051,0.33800000000000002,0,0.38461538461538464,0.25,0.16666666666666666,0.188,0.20743494423791822,0.26368625351358588,0.26500000000000001,0.3,0.27]
[null,null,null,null,null,null,null,"16/80","29/142","76/167","71/198","50/193",null,null,null,null,null,"17/100",null,"66/646*","13/72","22/82","220/251","112/691","24/76","30/87","24/89",null,null,"18/38","13/76","18/58","182/327","459/1111","388/1262","98/332","104/368","144/2147","108/324","135/344","181/449","78/164",null,null,null,null,null,"157/365","658/3129","673/2264","673/2345","552/1797","87/708","575/1275","274/1438","41/173","417/1925","14/47","17/60","27/117","18/57","22/65","0/10","5/13","3/12","2/12","3/16","837/4035","1970/7471","1684/6364","1140/3801","1312/4851"]
[15,"Cigarette Smoking Prevalence*","N/A","N/A","N/A",0.3,0.25,"N/A","N/A",0.34045008655510678,0.26036745406824147,0.221,"N/A","N/A","N/A","N/A","N/A","N/A","N/A","N/A",0.35074626865671643,0.29199999999999998,"N/A","N/A","N/A",0.1163556531284303,0.17,"N/A","N/A",0.49275362318840582,0.39350180505415161,0.40400000000000003,"N/A","N/A",0.31866750471401634,0.21010638297872342,0.10100000000000001,"N/A","N/A",0.38663484486873506,0.33933933933933935,0.40300000000000002,"N/A","N/A","N/A","N/A","N/A","N/A","N/A",0.26280152348709268,0.20224089635854342,0.17399999999999999,"N/A","N/A",0.29292543021032502,0.31567328918322296,0.434,"N/A","N/A",0.29271708683473391,0.23164918970448045,0.252,"N/A","N/A",0.25287356321839083,0.2413793103448276,0.26500000000000001,"N/A","N/A","31%***",0.245,0.20200000000000001]
[null,null,null,null,null,null,null,null,null,"590/1733","496/1905","78/353",null,null,null,null,null,null,null,null,"47/134","220/753",null,null,null,"106/911","131/772",null,null,"204/414","327/831","306/758",null,null,"507/1591","237/1128","294/2911",null,null,"162/419","113/333","135/335",null,null,null,null,null,null,null,"621/2363","1083/5355","338/1941",null,null,"766/2615","715/2265","69/159",null,null,"209/714","243/1049","184/729",null,null,"44/174","42/174","35/132",null,null,"3103/10023","3409/14085","1790/ 8843"]
[16,"PCPCH Enrollment",0.6,0.6,0.6,0.6,0.6,"N/A","N/A","N/A","N/A","N/A","N/A","N/A","N/A","N/A","N/A","N/A","N/A","N/A","N/A","N/A","N/A","N/A","N/A","N/A","N/A","N/A","N/A","N/A","N/A","N/A","N/A","N/A","N/A","N/A","N/A","N/A","N/A","N/A","N/A","N/A","N/A","N/A","N/A","N/A","N/A","N/A","N/A","N/A","N/A","N/A","N/A","N/A","N/A","N/A","N/A","N/A","N/A","N/A","N/A","N/A","N/A","N/A","N/A","N/A","N/A",0.61,0.73499999999999999,0.85099999999999998,"68.9%**",0.72899999999999998]
[]
[17,"EHR Adoption",0.47799999999999998,0.63,"N/A","N/A","N/A","N/A","N/A","N/A","N/A","N/A","N/A","N/A","N/A","N/A","N/A","N/A","N/A","N/A","N/A","N/A","N/A","N/A","N/A","N/A","N/A","N/A","N/A","N/A","N/A","N/A","N/A","N/A","N/A","N/A","N/A","N/A","N/A","N/A","N/A","N/A","N/A","N/A","N/A","N/A","N/A","N/A","N/A","N/A","N/A","N/A","N/A","N/A","N/A","N/A","N/A","N/A","N/A","N/A","N/A","N/A","N/A","N/A","N/A","N/A","N/A",0.6,0.70399999999999996,0.68799999999999994,"N/A","N/A"]
[null,null,null,null,null,null,null,null,null,null,null,null,null,null,null,null,null,null,null,null,null,null,null,null,null,null,null,null,null,null,null,null,null,null,null,null,null,null,null,null,null,null,null,null,null,null,null,null,null,null,null,null,null,null,null,null,null,null,null,null,null,null,null,null,null,null,null,"229/382"]
[18,"Timeliness of Prenatal Care",0.79500000000000004,0.9,0.93,0.91,0.91700000000000004,0.96299999999999997,0.7407407407407407,0.89655172413793105,1,{"$f":"39/42","v":0.9285714285714286},"N/A",1,1,1,1,1,1,1,0.91666666666666663,{"$f":"7/8","v":0.875},1,1,1,0.9285714285714286,{"$f":"7/8","v":0.875},1,0.88888888888888884,1,0.75,{"$f":"12/13","v":0.92307692307692313},0.95099999999999996,0.92592592592592593,0.88118811881188119,0.91397849462365588,{"$f":"20/21","v":0.95238095238095233},0.92307692307692313,0.8,0.9285714285714286,0.95652173913043481,{"$f":"20/21","v":0.95238095238095233},"N/A",0.6,0.75,1,"N/A",0.97457627118644063,0.88888888888888884,0.93788819875776397,0.91139240506329111,{"$f":"149/160","v":0.93125000000000002},0.96875,0.86792452830188682,1,0.95652173913043481,{"$f":"47/51","v":0.92156862745098034},1,0.90909090909090906,1,1,{"$f":"6/7","v":0.8571428571428571},"N/A",1,1,1,{"$f":"3/3","v":1},0.96899999999999997,0.91400000000000003,0.93100000000000005,0.92900000000000005,0.92400000000000004]
[null,null,null,null,null,null,null,"26/27","20/27","26/29","38/384","39/42",null,"1/1","3/3","1/1","2/2","6/6","8/8","6/6","11/12","7/8","9/9","12/12","18/18","13/14","7/8","9/9","8/9","12/12","6/8","12/13","58/61","75/81","89/101","85/93","20/21","12/13","12/15","26/28","22/23","20/21",null,"3/5","3/4","1/1",null,"115/118","160/180","151/161","144/158","149/160","31/32","46/53","31/31","44/46","47/51","8/8","10/11","10/10","13/13","6/7",null,"2/2","4/4","1/1","3/3","279/288","371/406","379/407","378/407","375/406"]
[19,"CAHPS Access to Care",0.85699999999999998,0.86799999999999999,0.84299999999999997,0.83699999999999997,"78.2%/88.8%","N/A","N/A",0.84399999999999997,0.82099999999999995,"N/A","N/A","N/A","N/A","N/A","N/A","N/A","N/A","N/A","N/A","N/A","N/A","N/A","N/A","N/A","N/A","N/A","N/A","N/A","N/A","N/A","N/A","N/A","N/A","N/A","N/A","N/A","N/A","N/A","N/A","N/A","N/A","N/A","N/A","N/A","N/A","N/A","N/A","N/A","N/A","N/A","N/A","N/A","N/A","N/A","N/A","N/A","N/A","N/A","N/A","N/A","N/A","N/A","N/A","N/A","N/A",0.84799999999999998,0.82299999999999995,0.81699999999999995,0.83699999999999997,"82.3%/89.2%"]
[]
[20,"CAHPS Satisfaction with Care",0.86499999999999999,0.85299999999999998,0.89200000000000002,0.86699999999999999,"N/A","N/A","N/A",0.75,0.95499999999999996,"N/A","N/A","N/A","N/A","N/A","N/A","N/A","N/A","N/A","N/A","N/A","N/A","N/A","N/A","N/A","N/A","N/A","N/A","N/A","N/A","N/A","N/A","N/A","N/A","N/A","N/A","N/A","N/A","N/A","N/A","N/A","N/A","N/A","N/A","N/A","N/A","N/A","N/A","N/A","N/A","N/A","N/A","N/A","N/A","N/A","N/A","N/A","N/A","N/A","N/A","N/A","N/A","N/A","N/A","N/A","N/A",0.83299999999999996,0.874,0.84699999999999998,0.86799999999999999,"N/A"]
[]
[null,"*Lower is better"]
[null,"**Measurement changed"]
[null,"***EOCCO still met metric "]

{"sheet":"EOCCO ","index":1,"n_rows":46,"n_cols":12,"rows_kept":46,"cut":false,"hidden":false,"merged":[[37,0,38,0],[37,1,38,1],[39,0,40,0],[39,1,40,1],[41,0,42,0],[41,1,42,1],[31,0,32,0],[31,1,32,1],[33,0,34,0],[33,1,34,1],[35,0,36,0],[35,1,36,1],[25,0,26,0],[25,1,26,1],[27,0,28,0],[27,1,28,1],[29,0,30,0],[29,1,30,1],[19,0,20,0],[19,1,20,1],[21,0,22,0],[21,1,22,1],[23,0,24,0],[23,1,24,1],[13,0,14,0],[13,1,14,1],[15,0,16,0],[15,1,16,1],[17,0,18,0],[17,1,18,1],[7,0,8,0],[7,1,8,1],[9,0,10,0],[9,1,10,1],[11,0,12,0],[11,1,12,1],[1,7,1,11],[3,0,4,0],[3,1,4,1],[5,0,6,0],[5,1,6,1],[1,2,1,6]]}
["EOCCO Incentive Measure Performance"]
[null,null,"EOCCO Targets",null,null,null,null,"EOCCO Final Rates"]
[null,null,2014,2015,2016,2017,2018,2014,2015,2016,2017,"2018*"]
[1,"Adolescent Well Care Visits",0.25800000000000001,0.27700000000000002,{"$f":"'[1]County Summary (2)'!$C$28","v":0.29099999999999998},{"$f":"'[2]EOCCO Summary'!$D$13","v":0.373},0.40600000000000003,0.23899999999999999,0.255,{"$f":"'[3]Compare to State'!$H$13","v":0.35121542330259847},{"$f":"'[2]EOCCO Summary'!$H$13","v":0.38579996757983465},{"$f":"194/504","v":0.38492063492063494}]
[null,null,null,null,null,null,null,"1579/6602","1650/6483",{"$f":"'[3]Compare to State'!$G$13","v":"2095/5965"},{"$f":"'[2]EOCCO Summary'!$G$13","v":"2380/6169"},"194/504"]
[2,"Alcohol and Drug Misuse: SBIRT",3.7999999999999999E-2,7.9000000000000001E-2,{"$f":"'[1]County Summary (2)'!$D$28","v":0.11799999999999999},{"$f":"'[2]EOCCO Summary'!$D$25","v":0.15},0.12,5.5E-2,8.7999999999999995E-2,{"$f":"'[3]Compare to State'!$H$14","v":0.16929119270814036},{"$f":"'[2]EOCCO Summary'!$H$25","v":0.15258685328667834},0.159]
[null,null,null,null,null,null,null,"965/17671","2105/23846",{"$f":"'[3]Compare to State'!$G$14","v":"4569/26989"},{"$f":"'[2]EOCCO Summary'!$G$25","v":"3663/24006"},"3648/22974"]
[3,"Assessments for Children in DHS Custody",0.58799999999999997,0.38200000000000001,0.64500000000000002,0.76,0.86199999999999999,0.32400000000000001,0.61499999999999999,{"$f":"65/89","v":0.7303370786516854},0.83199999999999996,0.69699999999999995]
[null,null,null,null,null,null,null,"12/37","64/104","65/89","89/107"]
[4,"Childhood Immunization Status Combo 2","N/A","N/A",{"$f":"'[1]County Summary (2)'!$J$28","v":0.74099999999999999},{"$f":"'[2]EOCCO Summary'!$D$14","v":0.72899999999999998},0.79100000000000004,"N/A",0.73299999999999998,{"$f":"'[3]Compare to State'!$H$18","v":0.70781426953567383},{"$f":"'[2]EOCCO Summary'!$H$14","v":0.77306733167082298},0.74399999999999999]
[null,null,null,null,null,null,null,null,"801/1093",{"$f":"'[3]Compare to State'!$G$18","v":"625/883"},{"$f":"'[2]EOCCO Summary'!$G$14","v":"620/802"},"669/899"]
[5,"Colorectal Cancer Screening",0.47,0.38300000000000001,{"$f":"'[1]County Summary (2)'!$I$28","v":0.39},{"$f":"'[2]EOCCO Summary'!$D$15","v":0.439},0.46800000000000003,{"$f":"145/411","v":0.35279805352798055},0.36,0.40899999999999997,0.44800000000000001,0.45100000000000001]
[null,null,null,null,null,null,null,"145/411","148/411","168/411","184/411","1659/3679"]
[6,"Dental Sealants","N/A",7.9000000000000001E-2,{"$f":"'[1]County Summary (2)'!$F$28","v":0.17399999999999999},{"$f":"'[2]EOCCO Summary'!$D$16","v":0.2},0.22900000000000001,"N/A",0.14399999999999999,{"$f":"'[3]Compare to State'!$H$19","v":0.16490747087045921},{"$f":"'[2]EOCCO Summary'!$H$16","v":0.24591211037301994},0.24199999999999999]
[null,null,null,null,null,null,null,null,"1117/7766",{"$f":"'[3]Compare to State'!$G$19","v":"1203/6515"},{"$f":"'[2]EOCCO Summary'!$G$16","v":"1925/7828"},"2181/9026"]
[7,"Developmental Screening in the First 36 Months of Life",0.32,0.373,{"$f":"'[1]County Summary (2)'!$G$28","v":0.47699999999999998},{"$f":"'[2]EOCCO Summary'!$D$19","v":0.57299999999999995},0.65600000000000003,0.35899999999999999,0.44700000000000001,{"$f":"'[3]Compare to State'!$H$22","v":0.54237844940867275},{"$f":"'[2]EOCCO Summary'!$H$19","v":0.62760603882099208},0.67200000000000004]
[null,null,null,null,null,null,null,"1269/3537","1483/3320",{"$f":"'[3]Compare to State'!$G$22","v":"1651/3044"},{"$f":"'[2]EOCCO Summary'!$G$19","v":"1746/2782"},"2061/3069"]
[8,"Effective Contraceptive Use ","N/A",0.34599999999999997,{"$f":"'[1]County Summary (2)'!$H$28","v":0.42699999999999999},{"$f":"'[2]EOCCO Summary'!$D$20","v":0.48099999999999998},0.5,0.34799999999999998,0.39700000000000002,{"$f":"'[3]Compare to State'!$H$23","v":0.44862008220786848},{"$f":"'[2]EOCCO Summary'!$H$20","v":0.48960101867572159},0.44400000000000001]
[null,null,null,null,null,null,null,"1870/5368","2373/5979",{"$f":"'[3]Compare to State'!$G$23","v":"2292/5109"},{"$f":"'[2]EOCCO Summary'!$G$20","v":"2307/4712"},"3030/6822"]
[9,"Emergency Department Utilization*",57.7,52.6,{"$f":"'[1]County Summary (2)'!$E$28","v":51.5},{"$f":"'[2]EOCCO Summary'!$D$23","v":51.8},51.8,54,53.1,{"$f":"'[3]Compare to State'!$H$17","v":57.214993957469062},{"$f":"'[2]EOCCO Summary'!$H$23","v":53.1014893151537},48.7]
[null,null,null,null,null,null,null,"27932/516927","30170/567804",{"$f":"'[3]Compare to State'!$G$17","v":"32383/565988"},{"$f":"'[2]EOCCO Summary'!$G$23","v":"29369/553073"},"28300/581103"]
[10,"Emergency Department Utilization for Patients Experiencing Mental Illness*","N/A","N/A","N/A","N/A",119.5,"N/A","N/A","N/A","N/A",102.7]
[null,null,null,null,null,null,null,null,null,null,null,"9268/90223"]
[11,"Follow-Up after Hospitalization for Mental Illness",0.58299999999999996,0.66600000000000004,0.72499999999999998,0.75700000000000001,"N/A",0.63600000000000001,{"$f":"39/55","v":0.70909090909090911},{"$f":"'[3]Compare to State'!$F$26","v":0.72699999999999998},0.83799999999999997,"N/A"]
[null,null,null,null,null,null,null,"35/55","39/55",{"$f":"'[3]Compare to State'!$E$26","v":"64/88"},"57/68"]
[12,"Depression Screening and Follow Up Plan","N/A",0.20399999999999999,0.25,0.52900000000000003,0.60299999999999998,{"$f":"2687/16651","v":0.16137168938802474},{"$f":"8141/24704","v":0.32954177461139894},0.52100000000000002,0.57299999999999995,"N/A"]
[null,null,null,null,null,null,null,"2687/16651","8141/24704","13965/26783","11864/24404"]
[13,"Controlling High Blood Pressure","N/A",0.55200000000000005,0.621,0.66900000000000004,0.69,{"$f":"4110/8032","v":0.51170318725099606},{"$f":"11565/19584","v":0.59053308823529416},0.63900000000000001,0.67,"N/A"]
[null,null,null,null,null,null,null,"4110/8032","11565/19584","8322/13024","5819/8682"]
[14,"Diabetes HbA1c Poor Control*","N/A",0.34,0.23400000000000001,0.23499999999999999,0.28000000000000003,{"$f":"837/4035","v":0.20743494423791822},{"$f":"1970/7471","v":0.26368625351358588},0.26500000000000001,0.3,"N/A"]
[null,null,null,null,null,null,null,"837/4035","1970/7471","1684/6364","1140/3801"]
[15,"Cigarette Smoking Prevalence*","N/A","N/A","N/A",0.3,0.25,"N/A","N/A","31%***",0.245,"N/A"]
[null,null,null,null,null,null,null,null,null,"3103/10023","3409/14085"]
[16,"PCPCH Enrollment",0.6,0.6,0.6,0.6,0.6,0.61,0.73499999999999999,0.85099999999999998,"68.9%**","N/A"]
[]
[17,"EHR Adoption",0.47799999999999998,0.63,"N/A","N/A","N/A",0.6,0.70399999999999996,0.68799999999999994,"N/A","N/A"]
[null,null,null,null,null,null,null,"229/382"]
[18,"Timeliness of Prenatal Care",0.79500000000000004,0.9,0.93,0.91,0.91700000000000004,0.96899999999999997,0.91400000000000003,0.93100000000000005,0.92900000000000005,"N/A"]
[null,null,null,null,null,null,null,"279/288","371/406","379/407","378/407"]
[19,"CAHPS Access to Care",0.85699999999999998,0.86799999999999999,0.84299999999999997,0.83699999999999997,"78.2%/88.8%",0.84799999999999998,0.82299999999999995,0.81699999999999995,0.83699999999999997,"N/A"]
[]
[20,"CAHPS Satisfaction with Care",0.86499999999999999,0.85299999999999998,0.89200000000000002,0.86699999999999999,"N/A",0.83299999999999996,0.874,0.84699999999999998,0.86799999999999999,"N/A"]
[]
[null,"*Lower is better"]
[null,"**Measurement changed"]
[null,"***EOCCO still met metric "]